BEGIN:VCALENDAR
PRODID:-//Dr. Thomas Wagner\, TUM WWW & Online Services//myTUM Advanced Calendaring 0.1//DE
VERSION:2.0
METHOD:GET
BEGIN:VTIMEZONE
TZID:Europe/Berlin
BEGIN:STANDARD
DTSTART:20071028T010000
TZOFFSETTO:+0100
TZOFFSETFROM:+0000
TZNAME:CET
END:STANDARD
BEGIN:DAYLIGHT
TZOFFSETTO:+0200
TZOFFSETFROM:+0100
TZNAME:CEST
DTSTART:20080330T020000
END:DAYLIGHT
END:VTIMEZONE
BEGIN:VEVENT
SEQUENCE:1
TRANSP:OPAQUE
UID:termine_Event.2016-03-01.8222493783_portal.mytum.de
DTSTART;TZID=Europe/Berlin:20160811T083000
ORGANIZER;CN="buehler@zv.tum.de":mailto:buehler@zv.tum.de
DTSTAMP:20260419T172652
LAST-MODIFIED:20160301T132215
CATEGORIES:SOCIAL EVENT
SUMMARY:Bewegte TUM Ferien Sommer 2016
DESCRIPTION:BEWEGTE TUM FERIEN Sommer 2016 ein Ferienbetreuungsangebot für Schulkinder im Alter zwischen 6 und 12 Jahren. Das Ferienprogramm wird in München, Garching und Weihenstephan von Mo, 1.8.-Fr, 12.8.2016 angeboten. Das TUM Kids Camp im Olympiapark findet vom 5.9.-8.9. statt. Genaue Infos, alle links zu den detaillierten Beschreibungen und Anmeldeformularen finden sich auf der angegebenen website.
CONTACT:buehler@zv.tum.de
LOCATION:München, Garching und Weihenstephan
CLASS:PUBLIC
URL;VALUE=URL:https://portal.mytum.de/termine/Event.2016-03-01.8222493783
ATTACH;VALUE=URI:http://www.diversity.tum.de/familie/ferienbetreuung/
CREATED:20160301T132215
DTEND;TZID=Europe/Berlin:20160811T170000
END:VEVENT
END:VCALENDAR
