BEGIN:VCALENDAR
PRODID:-//Dr. Thomas Wagner\, TUM WWW & Online Services//myTUM Advanced Calendaring 0.1//DE
VERSION:2.0
METHOD:GET
BEGIN:VTIMEZONE
TZID:Europe/Berlin
BEGIN:STANDARD
DTSTART:20071028T010000
TZOFFSETTO:+0100
TZOFFSETFROM:+0000
TZNAME:CET
END:STANDARD
BEGIN:DAYLIGHT
TZOFFSETTO:+0200
TZOFFSETFROM:+0100
TZNAME:CEST
DTSTART:20080330T020000
END:DAYLIGHT
END:VTIMEZONE
BEGIN:VEVENT
SEQUENCE:1
TRANSP:OPAQUE
UID:termine_Event.2015-11-18.5960915884_portal.mytum.de
DTSTART;TZID=Europe/Berlin:20151127T123000
ORGANIZER;CN="Elli Kleidorfer":mailto:elli.kleidorfer@tum.de
DTSTAMP:20260421T022933
LAST-MODIFIED:20151118T100506
CATEGORIES:VORTRAG
SUMMARY:Holzwissenschaftliches Seminar
DESCRIPTION:In den Seminaren werden aktuelle Forschungsarbeiten von externen und internen Referenten, sowie Bachelor- und Masterarbeiten allen Interessierten vorgestellt. Die Seminare bieten die Möglichkeit sich über die Inhalte und Ergebnisse der jeweiligen Arbeit zu informieren und anschließend Fragen zu diskutieren. Teilnahme ist kostenfrei.
CONTACT:Frau Elli Kleidorfer
LOCATION:Holzforschung München, HFM@TUM, Winzererstr. 45, 80797 München, Hörsaal der Didaktik, Raum 207 Altbau 2. Stock
CLASS:PUBLIC
URL;VALUE=URL:https://portal.mytum.de/termine/Event.2015-11-18.5960915884
ATTACH;VALUE=URI:http://www.hfm.tum.de/index.php?id=593
CREATED:20151118T100506
DTEND;TZID=Europe/Berlin:20151127T143000
END:VEVENT
END:VCALENDAR
