BEGIN:VCALENDAR
PRODID:-//Dr. Thomas Wagner\, TUM WWW & Online Services//myTUM Advanced Calendaring 0.1//DE
VERSION:2.0
METHOD:GET
BEGIN:VTIMEZONE
TZID:Europe/Berlin
BEGIN:STANDARD
DTSTART:20071028T010000
TZOFFSETTO:+0100
TZOFFSETFROM:+0000
TZNAME:CET
END:STANDARD
BEGIN:DAYLIGHT
TZOFFSETTO:+0200
TZOFFSETFROM:+0100
TZNAME:CEST
DTSTART:20080330T020000
END:DAYLIGHT
END:VTIMEZONE
BEGIN:VEVENT
SEQUENCE:1
TRANSP:OPAQUE
UID:termine_Event.2015-11-16.8053387234_portal.mytum.de
DTSTART;TZID=Europe/Berlin:20151210T183000
ORGANIZER;CN="water@tum.de":mailto:water@tum.de
DTSTAMP:20260423T011113
LAST-MODIFIED:20151116T120706
CATEGORIES:VORTRAG
SUMMARY:TUM Water Cluster – Lecture Series: “The 4th Water Revolution“ – Prof. David L. Sedlak, University of California
DESCRIPTION:10 December 2015, 18:30 Prof. David L. Sedlak , University of California, Berkeley, USA “The 4th Water Revolution“
CONTACT:water@tum.de
LOCATION:Oskar von Miller Forum, Oskar-von-Miller-Ring 25, 80333 München 
CLASS:PUBLIC
URL;VALUE=URL:https://portal.mytum.de/termine/Event.2015-11-16.8053387234
ATTACH;VALUE=URI:https://portal.mytum.de/termine/Event.2015-11-16.8053387234/Flyer
CREATED:20151116T115400
DTEND;TZID=Europe/Berlin:20151210T200000
END:VEVENT
END:VCALENDAR
