BEGIN:VCALENDAR
PRODID:-//Dr. Thomas Wagner\, TUM WWW & Online Services//myTUM Advanced Calendaring 0.1//DE
VERSION:2.0
METHOD:GET
BEGIN:VTIMEZONE
TZID:Europe/Berlin
BEGIN:STANDARD
DTSTART:20071028T010000
TZOFFSETTO:+0100
TZOFFSETFROM:+0000
TZNAME:CET
END:STANDARD
BEGIN:DAYLIGHT
TZOFFSETTO:+0200
TZOFFSETFROM:+0100
TZNAME:CEST
DTSTART:20080330T020000
END:DAYLIGHT
END:VTIMEZONE
BEGIN:VEVENT
SEQUENCE:1
TRANSP:OPAQUE
UID:termine_Event.2015-10-30.4216548757_portal.mytum.de
DTSTART;TZID=Europe/Berlin:20151111T100000
ORGANIZER;CN="Carolin Ahrendt, HR5 (ahrendt@tum.de, Tel. 289-25314)":mailto:ahrendt@tum.de
DTSTAMP:20260422T170216
LAST-MODIFIED:20151030T115301
CATEGORIES:SOCIAL EVENT
SUMMARY:Verleihung der Joseph-Ströbl-Preise 2015
CONTACT:Carolin Ahrendt, HR5 (ahrendt@tum.de, Tel. 289-25314)
LOCATION:Bayerisches Staatsministerium des Innern, für Bau und Verkehr
CLASS:PUBLIC
URL;VALUE=URL:https://portal.mytum.de/termine/Event.2015-10-30.4216548757
CREATED:20151030T114937
DTEND;TZID=Europe/Berlin:20151111T113000
END:VEVENT
END:VCALENDAR
