BEGIN:VCALENDAR
PRODID:-//Dr. Thomas Wagner\, TUM WWW & Online Services//myTUM Advanced Calendaring 0.1//DE
VERSION:2.0
METHOD:GET
BEGIN:VTIMEZONE
TZID:Europe/Berlin
BEGIN:STANDARD
DTSTART:20071028T010000
TZOFFSETTO:+0100
TZOFFSETFROM:+0000
TZNAME:CET
END:STANDARD
BEGIN:DAYLIGHT
TZOFFSETTO:+0200
TZOFFSETFROM:+0100
TZNAME:CEST
DTSTART:20080330T020000
END:DAYLIGHT
END:VTIMEZONE
BEGIN:VEVENT
SEQUENCE:1
TRANSP:OPAQUE
UID:termine_Event.2015-08-27.1584545438_portal.mytum.de
DTSTART;TZID=Europe/Berlin:20160115T093000
ORGANIZER;CN="Rebecca Huber":mailto:rebecca.huber@tum.de
DTSTAMP:20260424T005124
LAST-MODIFIED:20150827T130519
CATEGORIES:WORKSHOP
SUMMARY:ProLehre Workshop: Rechtliche Aspekte der Hochschullehre
DESCRIPTION:ProLehre Workshop: Rechtliche Aspekte der Hochschullehre
CONTACT:Janina Schroeder
LOCATION:2903.EG.002
CLASS:PUBLIC
URL;VALUE=URL:https://portal.mytum.de/termine/Event.2015-08-27.1584545438
ATTACH;VALUE=URI:http://www.prolehre.tu-muenchen.de/cms/index.php?option=com_content&view=article&id=364&Itemid=66
CREATED:20150827T130449
DTEND;TZID=Europe/Berlin:20160115T173000
END:VEVENT
END:VCALENDAR
