BEGIN:VCALENDAR
PRODID:-//Dr. Thomas Wagner\, TUM WWW & Online Services//myTUM Advanced Calendaring 0.1//DE
VERSION:2.0
METHOD:GET
BEGIN:VTIMEZONE
TZID:Europe/Berlin
BEGIN:STANDARD
DTSTART:20071028T010000
TZOFFSETTO:+0100
TZOFFSETFROM:+0000
TZNAME:CET
END:STANDARD
BEGIN:DAYLIGHT
TZOFFSETTO:+0200
TZOFFSETFROM:+0100
TZNAME:CEST
DTSTART:20080330T020000
END:DAYLIGHT
END:VTIMEZONE
BEGIN:VEVENT
SEQUENCE:1
TRANSP:OPAQUE
UID:termine_Event.2015-08-25.9825745640_portal.mytum.de
DTSTART;TZID=Europe/Berlin:20151109T171500
ORGANIZER;CN="Petra Wick":mailto:petra.wick@tum.de
DTSTAMP:20260424T060749
LAST-MODIFIED:20150825T121818
CATEGORIES:VORTRAG
SUMMARY:Stomatal Development: Cell-cell communication and Cell-fate decision making.
CONTACT:Claus Schwechheimer
LOCATION:Hörsaal 12, Biologikum, Weihenstephan
CLASS:PUBLIC
URL;VALUE=URL:https://portal.mytum.de/termine/Event.2015-08-25.9825745640
CREATED:20150825T121818
DTEND;TZID=Europe/Berlin:20151109T181500
END:VEVENT
END:VCALENDAR
