BEGIN:VCALENDAR
PRODID:-//Dr. Thomas Wagner\, TUM WWW & Online Services//myTUM Advanced Calendaring 0.1//DE
VERSION:2.0
METHOD:GET
BEGIN:VTIMEZONE
TZID:Europe/Berlin
BEGIN:STANDARD
DTSTART:20071028T010000
TZOFFSETTO:+0100
TZOFFSETFROM:+0000
TZNAME:CET
END:STANDARD
BEGIN:DAYLIGHT
TZOFFSETTO:+0200
TZOFFSETFROM:+0100
TZNAME:CEST
DTSTART:20080330T020000
END:DAYLIGHT
END:VTIMEZONE
BEGIN:VEVENT
SEQUENCE:1
TRANSP:OPAQUE
UID:termine_Event.2015-08-10.9469194351_portal.mytum.de
DTSTART;TZID=Europe/Berlin:20151028T090000
ORGANIZER;CN="Christian Scholze":mailto:christian.scholze@tum.de
DTSTAMP:20260421T063202
LAST-MODIFIED:20150810T153235
CATEGORIES:TAGUNG
SUMMARY:Entwicklerforum Medizinelektronik – Elektronik für ein gesundes Leben: Telemedizin, Smart Health, Ambient Medicine®
DESCRIPTION:Professionelle Elektronik in der Medizin- und Biomedizintechnik ist das Thema dieses Entwicklerforums, das die Fachmedien DESIGN&ELEKTRONIK und MEDIZIN+elektronik in Kooperation mit dem Heinz Nixdorf-Lehrstuhl für Medizinische Elektronik der Technischen Universität München seit Jahren mit großem Erfolg veranstalten. Hier greifen Experten neueste Entwicklungen und Trends auf einem der aussichtsreichsten Zukunftsmärkte der Elektronik auf und informieren umfassend. Themenschwerpunkte: ■ Messtechnik & Sensorik ■ Safety & Security ■ Smart Health ■ Ambient Medicine® ■ Telemedizin & AAL ■ Elektronische Komponenten für die Medizintechnik
CONTACT:Christian Scholze, Tel. 089 / 289 – 22967
LOCATION:Konferenzzentrum München, Lazarettstr. 33, 80636 München
CLASS:PUBLIC
URL;VALUE=URL:https://portal.mytum.de/termine/Event.2015-08-10.9469194351
ATTACH;VALUE=URI:http://www.medizinelektronik-entwicklerforum.de
CREATED:20150810T152658
DTEND;TZID=Europe/Berlin:20151029T163000
END:VEVENT
END:VCALENDAR
