BEGIN:VCALENDAR
PRODID:-//Dr. Thomas Wagner\, TUM WWW & Online Services//myTUM Advanced Calendaring 0.1//DE
VERSION:2.0
METHOD:GET
BEGIN:VTIMEZONE
TZID:Europe/Berlin
BEGIN:STANDARD
DTSTART:20071028T010000
TZOFFSETTO:+0100
TZOFFSETFROM:+0000
TZNAME:CET
END:STANDARD
BEGIN:DAYLIGHT
TZOFFSETTO:+0200
TZOFFSETFROM:+0100
TZNAME:CEST
DTSTART:20080330T020000
END:DAYLIGHT
END:VTIMEZONE
BEGIN:VEVENT
SEQUENCE:1
TRANSP:OPAQUE
UID:termine_Event.2015-07-09.1663919947_portal.mytum.de
DTSTART;TZID=Europe/Berlin:20150922T133000
ORGANIZER;CN="J. Philipp Benz":mailto:philipp.benz@tum.de
DTSTAMP:20260420T214001
LAST-MODIFIED:20150709T155727
CATEGORIES:VORTRAG
SUMMARY:Applied Micobiology Symposium
DESCRIPTION:Wir möchten Sie herzlich zum Symposium "Applied Microbiology" der HFM ans WZW nach Freising einladen. Das Symposium findet anlässlich des Besuchs von Prof. N. Louise Glass (UC Berkeley) als August-Wilhelm Scheer Gastprofessor an der TUM statt. Prof. Glass beschäftigt sich seit langer Zeit sehr erfolgreich mit der genetischen Charakterisierung und Modifikation von filamentösen Pilzen, u.a. zur Anwendung im biotechnologischen Abbau von Biomasse zur Biokraftstoff-Herstellung. Neben ihrer Keynote Lecture werden die anderen Vorträge einen exzellenten Einblick in ausgesuchte Aspekte der angewandten mikrobiologischen Forschung an den verschiedenen Standorten der TUM geben (WZW, Straubing und Garching). 
CONTACT:Prof. Dr. J. Philipp Benz
LOCATION:WZW Freising - Forstwissenschaften - Gebäude 4277 - HS24
CLASS:PUBLIC
URL;VALUE=URL:https://portal.mytum.de/termine/Event.2015-07-09.1663919947
ATTACH;VALUE=URI:http://www.hfm.tum.de/index.php?id=442
CREATED:20150709T154310
DTEND;TZID=Europe/Berlin:20150922T190000
END:VEVENT
END:VCALENDAR
