BEGIN:VCALENDAR
PRODID:-//Dr. Thomas Wagner\, TUM WWW & Online Services//myTUM Advanced Calendaring 0.1//DE
VERSION:2.0
METHOD:GET
BEGIN:VTIMEZONE
TZID:Europe/Berlin
BEGIN:STANDARD
DTSTART:20071028T010000
TZOFFSETTO:+0100
TZOFFSETFROM:+0000
TZNAME:CET
END:STANDARD
BEGIN:DAYLIGHT
TZOFFSETTO:+0200
TZOFFSETFROM:+0100
TZNAME:CEST
DTSTART:20080330T020000
END:DAYLIGHT
END:VTIMEZONE
BEGIN:VEVENT
SEQUENCE:1
TRANSP:OPAQUE
UID:termine_Event.2015-05-15.7494762737_portal.mytum.de
DTSTART;TZID=Europe/Berlin:20150707T173000
ORGANIZER;CN="Hannelore Galster":mailto:lore.galster@tum.de
DTSTAMP:20260424T230013
LAST-MODIFIED:20150515T131817
CATEGORIES:VORTRAG
SUMMARY:Personalauswahlverfahren in der Praxis – Schwerpunkt Life Science
DESCRIPTION:Kommen Sie mit Expertinnen und Experten aus verschiedenen Tätigkeitsfeldern und Unternehmen ins Gespräch, die Ihnen „Insiderwissen“ auf dem Gebiet des Berufseinstiegs und der Karriereplanung vermitteln.
CONTACT:Susanna March
LOCATION:Campus Weihenstephan
CLASS:PUBLIC
URL;VALUE=URL:https://portal.mytum.de/termine/Event.2015-05-15.7494762737
CREATED:20150515T131432
DTEND;TZID=Europe/Berlin:20150707T190000
END:VEVENT
END:VCALENDAR
