BEGIN:VCALENDAR
PRODID:-//Dr. Thomas Wagner\, TUM WWW & Online Services//myTUM Advanced Calendaring 0.1//DE
VERSION:2.0
METHOD:GET
BEGIN:VTIMEZONE
TZID:Europe/Berlin
BEGIN:STANDARD
DTSTART:20071028T010000
TZOFFSETTO:+0100
TZOFFSETFROM:+0000
TZNAME:CET
END:STANDARD
BEGIN:DAYLIGHT
TZOFFSETTO:+0200
TZOFFSETFROM:+0100
TZNAME:CEST
DTSTART:20080330T020000
END:DAYLIGHT
END:VTIMEZONE
BEGIN:VEVENT
SEQUENCE:1
TRANSP:OPAQUE
UID:termine_Event.2015-05-15.6614142497_portal.mytum.de
DTSTART;TZID=Europe/Berlin:20150928T100000
ORGANIZER;CN="Corina Cseh":mailto:cseh@tum.de
DTSTAMP:20260424T225953
LAST-MODIFIED:20150706T164136
SUMMARY:Fit for TUM - Servicemesse zum Studienstart
DESCRIPTION:Wie finanziere ich mein Studium? Welche Partneruniversitäten gibt es an meiner Fakultät? Wer hilft mir bei Problemen im Studium weiter?
CONTACT:Corina Cseh
LOCATION:In the foyer of Audimax
CLASS:PUBLIC
URL;VALUE=URL:https://portal.mytum.de/termine/Event.2015-05-15.6614142497
ATTACH;VALUE=URI:http://www.tum.de/en/studies/during-your-studies/beginning-a-degree-program/service-fair/
CREATED:20150515T112339
DTEND;TZID=Europe/Berlin:20150928T170000
END:VEVENT
END:VCALENDAR
