BEGIN:VCALENDAR
PRODID:-//Dr. Thomas Wagner\, TUM WWW & Online Services//myTUM Advanced Calendaring 0.1//DE
VERSION:2.0
METHOD:GET
BEGIN:VTIMEZONE
TZID:Europe/Berlin
BEGIN:STANDARD
DTSTART:20071028T010000
TZOFFSETTO:+0100
TZOFFSETFROM:+0000
TZNAME:CET
END:STANDARD
BEGIN:DAYLIGHT
TZOFFSETTO:+0200
TZOFFSETFROM:+0100
TZNAME:CEST
DTSTART:20080330T020000
END:DAYLIGHT
END:VTIMEZONE
BEGIN:VEVENT
SEQUENCE:1
TRANSP:OPAQUE
UID:termine_Event.2015-05-04.6251351441_portal.mytum.de
DTSTART;TZID=Europe/Berlin:20150706T183000
ORGANIZER;CN="cvl-a@tum.de":mailto:cvl-a@tum.de
DTSTAMP:20260423T011017
LAST-MODIFIED:20150504T142341
CATEGORIES:VORTRAG
SUMMARY:Technik und Ethik: Big Data - eine neue Herausforderung für Ethik und Theologie
CONTACT:cvl-a@tum.de
LOCATION:Hörsaal 2300 (Friedrich von Thiersch Hörsaal; Eingang: gegenüber Gabelsbergerstr. 47), TU München Stammgelände, Arcisstr. 21
CLASS:PUBLIC
URL;VALUE=URL:https://portal.mytum.de/termine/Event.2015-05-04.6251351441
ATTACH;VALUE=URI:http://www.cvl-a.mcts.tum.de/oeffentliche-vorlesungen/technik-und-ethik/
CREATED:20150504T142341
DTEND;TZID=Europe/Berlin:20150706T200000
END:VEVENT
END:VCALENDAR
