BEGIN:VCALENDAR
PRODID:-//Dr. Thomas Wagner\, TUM WWW & Online Services//myTUM Advanced Calendaring 0.1//DE
VERSION:2.0
METHOD:GET
BEGIN:VTIMEZONE
TZID:Europe/Berlin
BEGIN:STANDARD
DTSTART:20071028T010000
TZOFFSETTO:+0100
TZOFFSETFROM:+0000
TZNAME:CET
END:STANDARD
BEGIN:DAYLIGHT
TZOFFSETTO:+0200
TZOFFSETFROM:+0100
TZNAME:CEST
DTSTART:20080330T020000
END:DAYLIGHT
END:VTIMEZONE
BEGIN:VEVENT
SEQUENCE:1
TRANSP:OPAQUE
UID:termine_Event.2015-04-20.2318730770_portal.mytum.de
DTSTART;TZID=Europe/Berlin:20150424T133000
ORGANIZER;CN="Hannelore Galster":mailto:lore.galster@tum.de
DTSTAMP:20260424T105403
LAST-MODIFIED:20150420T104655
CATEGORIES:WORKSHOP
SUMMARY:Application Training in English
DESCRIPTION:Blended Learning Course in Cooperation with TUM Language Center
CONTACT:Susanna March
LOCATION:Campus Innenstadt
CLASS:PUBLIC
URL;VALUE=URL:https://portal.mytum.de/termine/Event.2015-04-20.2318730770
CREATED:20150420T104655
DTEND;TZID=Europe/Berlin:20150424T150000
END:VEVENT
END:VCALENDAR
