BEGIN:VCALENDAR
PRODID:-//Dr. Thomas Wagner\, TUM WWW & Online Services//myTUM Advanced Calendaring 0.1//DE
VERSION:2.0
METHOD:GET
BEGIN:VTIMEZONE
TZID:Europe/Berlin
BEGIN:STANDARD
DTSTART:20071028T010000
TZOFFSETTO:+0100
TZOFFSETFROM:+0000
TZNAME:CET
END:STANDARD
BEGIN:DAYLIGHT
TZOFFSETTO:+0200
TZOFFSETFROM:+0100
TZNAME:CEST
DTSTART:20080330T020000
END:DAYLIGHT
END:VTIMEZONE
BEGIN:VEVENT
SEQUENCE:1
TRANSP:OPAQUE
UID:termine_Event.2015-04-20.1234390123_portal.mytum.de
DTSTART;TZID=Europe/Berlin:20150518T140000
ORGANIZER;CN="Hannelore Galster":mailto:lore.galster@tum.de
DTSTAMP:20260421T050352
LAST-MODIFIED:20150420T124951
CATEGORIES:WORKSHOP
SUMMARY:Berufseinstieg und Karriereplanung mit Handicap 
DESCRIPTION:Wie lässt sich der Bewerbungsprozess trotz persönlicher Einschränkungen wie einer Behinderung oder einer chronische Erkrankung gestalten? In diesem Workshop erarbeiten Sie sich Strategien, um damit im Bewerbungsprozess offensiv und zielgerichtet umzugehen.
CONTACT:Susanna March
LOCATION:Campus Innenstadt
CLASS:PUBLIC
URL;VALUE=URL:https://portal.mytum.de/termine/Event.2015-04-20.1234390123
CREATED:20150420T124951
DTEND;TZID=Europe/Berlin:20150518T180000
END:VEVENT
END:VCALENDAR
