BEGIN:VCALENDAR
PRODID:-//Dr. Thomas Wagner\, TUM WWW & Online Services//myTUM Advanced Calendaring 0.1//DE
VERSION:2.0
METHOD:GET
BEGIN:VTIMEZONE
TZID:Europe/Berlin
BEGIN:STANDARD
DTSTART:20071028T010000
TZOFFSETTO:+0100
TZOFFSETFROM:+0000
TZNAME:CET
END:STANDARD
BEGIN:DAYLIGHT
TZOFFSETTO:+0200
TZOFFSETFROM:+0100
TZNAME:CEST
DTSTART:20080330T020000
END:DAYLIGHT
END:VTIMEZONE
BEGIN:VEVENT
SEQUENCE:1
TRANSP:OPAQUE
UID:termine_Event.2015-04-13.9123757659_portal.mytum.de
DTSTART;TZID=Europe/Berlin:20150716T000000
ORGANIZER;CN="Tanja Mayer":mailto:tanja.mayer@tum.de
DTSTAMP:20260421T050312
LAST-MODIFIED:20150413T105027
CATEGORIES:WORKSHOP
SUMMARY:Forschungsworkshop Batterieproduktion 2015 am 16. und 17. Juli 2015 in Garching
CONTACT:Schmitz, Patrick, M. Sc.
LOCATION:Garching b. München
CLASS:PUBLIC
URL;VALUE=URL:https://portal.mytum.de/termine/Event.2015-04-13.9123757659
ATTACH;VALUE=URI:http://www.iwb.mw.tum.de/Batterieworkshop2015.html
CREATED:20150413T105027
DTEND;TZID=Europe/Berlin:20150717T000000
END:VEVENT
END:VCALENDAR
