BEGIN:VCALENDAR
PRODID:-//Dr. Thomas Wagner\, TUM WWW & Online Services//myTUM Advanced Calendaring 0.1//DE
VERSION:2.0
METHOD:GET
BEGIN:VTIMEZONE
TZID:Europe/Berlin
BEGIN:STANDARD
DTSTART:20071028T010000
TZOFFSETTO:+0100
TZOFFSETFROM:+0000
TZNAME:CET
END:STANDARD
BEGIN:DAYLIGHT
TZOFFSETTO:+0200
TZOFFSETFROM:+0100
TZNAME:CEST
DTSTART:20080330T020000
END:DAYLIGHT
END:VTIMEZONE
BEGIN:VEVENT
SEQUENCE:1
TRANSP:OPAQUE
UID:termine_Event.2015-03-09.3031212821_portal.mytum.de
DTSTART;TZID=Europe/Berlin:20150610T170000
ORGANIZER;CN="Tim Luckenbach":mailto:tim.luckenbach@tum.de
DTSTAMP:20260420T004444
LAST-MODIFIED:20150309T114243
CATEGORIES:VORTRAG
SUMMARY:WegweiserTUM - Dein Weg an die TUM mit ausländischer Hochschulzugangsberechtigung (z.B. IB, Matura)
DESCRIPTION:Die Vortragsreihe "WegweiserTUM" richtet sich an Studieninteressierte, die im kommenden Wintersemester 2015/2016 ein Bachelor-Studium an der TUM beginnen und Fragen rund um die Onlinebewerbung an der TUM klären möchten. Es werden drei separate Vorträge angeboten, aufgeteilt nach der Art der Hochschulzugangsberechtigung (HZB), die die Berwerber/innen mitbringen: • 10. Juni 2015: Bewerber/innen mit ausländischer Hochschulzugangsberechtigung (z.B. IB, Matura) • 17. Juni 2015: Bewerber/innen mit beruflicher Qualifikation (z.B. berufliche Ausbildung, Meister/in, Techniker/in) • 24. Juni 2015: Bewerber/innen mit deutscher Hochschulzugangsberechtigung (z.B. Abitur) 
CONTACT:Irany da Costa, Tim Luckenbach
LOCATION;ALTREP="https://portal.mytum.de/displayRoomMap?roomid=0606@0506":0606@0506, HÖRSAAL ANST.O.EXBÜHNE, Gebäude 0506
CLASS:PUBLIC
URL;VALUE=URL:https://portal.mytum.de/termine/Event.2015-03-09.3031212821
CREATED:20150309T114243
DTEND;TZID=Europe/Berlin:20150610T183000
END:VEVENT
END:VCALENDAR
