BEGIN:VCALENDAR
PRODID:-//Dr. Thomas Wagner\, TUM WWW & Online Services//myTUM Advanced Calendaring 0.1//DE
VERSION:2.0
METHOD:GET
BEGIN:VTIMEZONE
TZID:Europe/Berlin
BEGIN:STANDARD
DTSTART:20071028T010000
TZOFFSETTO:+0100
TZOFFSETFROM:+0000
TZNAME:CET
END:STANDARD
BEGIN:DAYLIGHT
TZOFFSETTO:+0200
TZOFFSETFROM:+0100
TZNAME:CEST
DTSTART:20080330T020000
END:DAYLIGHT
END:VTIMEZONE
BEGIN:VEVENT
SEQUENCE:1
TRANSP:OPAQUE
UID:termine_Event.2015-01-07.6475139791_portal.mytum.de
DTSTART;TZID=Europe/Berlin:20150115T170000
ORGANIZER;CN="Prof. Conradt (conradt@tum.de)":mailto:conradt@tum.de
DTSTAMP:20260419T172431
LAST-MODIFIED:20150107T172011
CATEGORIES:VORTRAG
SUMMARY:Nobelpreisträger Edvard Moser: "Neural maps of space: How do we know where we are?"
DESCRIPTION:Prof. Edvard Moser (Nobelpreis in Medizin/Physiologie) hält einen öffentlichen Vortrag zur räumlichen Repräsentation im Gehirn.
CONTACT:Prof. Conradt (conradt@tum.de)
LOCATION:TUM auditorium 2300 Friedrich von Thiersch Hörsaal
CLASS:PUBLIC
URL;VALUE=URL:https://portal.mytum.de/termine/Event.2015-01-07.6475139791
CREATED:20150107T161006
DTEND;TZID=Europe/Berlin:20150115T183000
END:VEVENT
END:VCALENDAR
