BEGIN:VCALENDAR
PRODID:-//Dr. Thomas Wagner\, TUM WWW & Online Services//myTUM Advanced Calendaring 0.1//DE
VERSION:2.0
METHOD:GET
BEGIN:VTIMEZONE
TZID:Europe/Berlin
BEGIN:STANDARD
DTSTART:20071028T010000
TZOFFSETTO:+0100
TZOFFSETFROM:+0000
TZNAME:CET
END:STANDARD
BEGIN:DAYLIGHT
TZOFFSETTO:+0200
TZOFFSETFROM:+0100
TZNAME:CEST
DTSTART:20080330T020000
END:DAYLIGHT
END:VTIMEZONE
BEGIN:VEVENT
SEQUENCE:1
TRANSP:OPAQUE
UID:termine_Event.2014-12-08.3322184655_portal.mytum.de
DTSTART;TZID=Europe/Berlin:20150511T180000
ORGANIZER;CN="Sabine Gmeinwieser":mailto:sabine.gmeinwieser@tum.de
DTSTAMP:20260421T023243
LAST-MODIFIED:20141208T155603
CATEGORIES:VORTRAG
SUMMARY:KoNaRo-Vortragsreihe: Klimawandel in Bayern
DESCRIPTION:Frank Bäse vom Bayerischen Landesamt für Umwelt in Hof/Saale referiert zum Thema "Klimawandel in Bayern - Herausforderung und Chance?". 
LOCATION:Schulungs- und Ausstellungszentrum (SAZ) im KoNaRo - Kompetenzzentrum für Nachwachsende Rohstoffe, Schulgasse 18, 94315 Straubing 
CLASS:PUBLIC
URL;VALUE=URL:https://portal.mytum.de/termine/Event.2014-12-08.3322184655
CREATED:20141208T155603
DTEND;TZID=Europe/Berlin:20150511T183000
END:VEVENT
END:VCALENDAR
