BEGIN:VCALENDAR
PRODID:-//Dr. Thomas Wagner\, TUM WWW & Online Services//myTUM Advanced Calendaring 0.1//DE
VERSION:2.0
METHOD:GET
BEGIN:VTIMEZONE
TZID:Europe/Berlin
BEGIN:STANDARD
DTSTART:20071028T010000
TZOFFSETTO:+0100
TZOFFSETFROM:+0000
TZNAME:CET
END:STANDARD
BEGIN:DAYLIGHT
TZOFFSETTO:+0200
TZOFFSETFROM:+0100
TZNAME:CEST
DTSTART:20080330T020000
END:DAYLIGHT
END:VTIMEZONE
BEGIN:VEVENT
SEQUENCE:1
TRANSP:OPAQUE
UID:termine_Event.2014-11-26.5571151619_portal.mytum.de
DTSTART;TZID=Europe/Berlin:20150212T090000
ORGANIZER;CN="democraticorganization@strategy.wi.tum.de":mailto:democraticorganization@strategy.wi.tum.de
DTSTAMP:20260423T164006
LAST-MODIFIED:20141126T094054
CATEGORIES:TAGUNG
SUMMARY:Konferenz: Das demokratische Unternehmen - Aufbruch in eine neue Humanisierung der Arbeitswelt?
DESCRIPTION:Getragen von der Überzeugung, dass die Demokratisierung der Arbeitswelt zu einer der wichtigsten Entwicklungen in Wirtschaft und Gesell- schaft wird, thematisiert die Konferenz zentrale Trends und Herausforderungen und skizziert neuartige Perspektiven und unkonventionelle Konzepte für das Unternehmen der Zukunft. Lassen Sie sich von hochrangigen Rednerinnen und Rednern aus Wissenschaft, Wirtschaft und Politik inspirieren.
CONTACT:democraticorganization@strategy.wi.tum.de
LOCATION:Audimax
CLASS:PUBLIC
URL;VALUE=URL:https://portal.mytum.de/termine/Event.2014-11-26.5571151619
CREATED:20141126T094054
DTEND;TZID=Europe/Berlin:20150212T180000
END:VEVENT
END:VCALENDAR
