BEGIN:VCALENDAR
PRODID:-//Dr. Thomas Wagner\, TUM WWW & Online Services//myTUM Advanced Calendaring 0.1//DE
VERSION:2.0
METHOD:GET
BEGIN:VTIMEZONE
TZID:Europe/Berlin
BEGIN:STANDARD
DTSTART:20071028T010000
TZOFFSETTO:+0100
TZOFFSETFROM:+0000
TZNAME:CET
END:STANDARD
BEGIN:DAYLIGHT
TZOFFSETTO:+0200
TZOFFSETFROM:+0100
TZNAME:CEST
DTSTART:20080330T020000
END:DAYLIGHT
END:VTIMEZONE
BEGIN:VEVENT
SEQUENCE:1
TRANSP:OPAQUE
UID:termine_Event.2014-10-30.7503830663_portal.mytum.de
DTSTART;TZID=Europe/Berlin:20150122T170000
ORGANIZER;CN="Philipp Reiß":mailto:p.reiss@tum.de
DTSTAMP:20260420T205750
LAST-MODIFIED:20141030T215036
CATEGORIES:VORTRAG
SUMMARY:Columbus-Betrieb beim DLR Oberpfaffenhofen
CONTACT:Philipp Reiss
LOCATION:MW 0250
CLASS:PUBLIC
URL;VALUE=URL:https://portal.mytum.de/termine/Event.2014-10-30.7503830663
ATTACH;VALUE=URI:http://www.lrt.mw.tum.de/index.php?id=205
CREATED:20141030T215022
DTEND;TZID=Europe/Berlin:20150122T183000
END:VEVENT
END:VCALENDAR
