BEGIN:VCALENDAR
PRODID:-//Dr. Thomas Wagner\, TUM WWW & Online Services//myTUM Advanced Calendaring 0.1//DE
VERSION:2.0
METHOD:GET
BEGIN:VTIMEZONE
TZID:Europe/Berlin
BEGIN:STANDARD
DTSTART:20071028T010000
TZOFFSETTO:+0100
TZOFFSETFROM:+0000
TZNAME:CET
END:STANDARD
BEGIN:DAYLIGHT
TZOFFSETTO:+0200
TZOFFSETFROM:+0100
TZNAME:CEST
DTSTART:20080330T020000
END:DAYLIGHT
END:VTIMEZONE
BEGIN:VEVENT
SEQUENCE:1
TRANSP:OPAQUE
UID:termine_Event.2014-10-07.6608943889_portal.mytum.de
DTSTART;TZID=Europe/Berlin:20141031T100000
ORGANIZER;CN="Eva Willkomm, eva.willkomm@tum.de":mailto:eva.willkomm@tum.de
DTSTAMP:20260422T170413
LAST-MODIFIED:20141119T145357
CATEGORIES:WORKSHOP
SUMMARY:Application Essentials for Your Application in Germany - Seminar in English
DESCRIPTION:Learn everything you need to know if you want to get an internship or a job in Germany.
CONTACT:Eva Willkomm, eva.willkomm@tum.de
LOCATION:Campus Garching
CLASS:PUBLIC
URL;VALUE=URL:https://portal.mytum.de/termine/Event.2014-10-07.6608943889
CREATED:20141007T161545
DTEND;TZID=Europe/Berlin:20141031T120000
END:VEVENT
END:VCALENDAR
