BEGIN:VCALENDAR
PRODID:-//Dr. Thomas Wagner\, TUM WWW & Online Services//myTUM Advanced Calendaring 0.1//DE
VERSION:2.0
METHOD:GET
BEGIN:VTIMEZONE
TZID:Europe/Berlin
BEGIN:STANDARD
DTSTART:20071028T010000
TZOFFSETTO:+0100
TZOFFSETFROM:+0000
TZNAME:CET
END:STANDARD
BEGIN:DAYLIGHT
TZOFFSETTO:+0200
TZOFFSETFROM:+0100
TZNAME:CEST
DTSTART:20080330T020000
END:DAYLIGHT
END:VTIMEZONE
BEGIN:VEVENT
SEQUENCE:1
TRANSP:OPAQUE
UID:termine_Event.2014-10-07.2287337442_portal.mytum.de
DTSTART;TZID=Europe/Berlin:20141029T151500
ORGANIZER;CN="Eva Willkomm, eva.willkomm@tum.de":mailto:eva.willkomm@tum.de
DTSTAMP:20260423T210450
LAST-MODIFIED:20141119T145408
CATEGORIES:VORTRAG
SUMMARY:Abschluss als Biowissenschaftler(in) - Wie geht's weiter?
DESCRIPTION:Nutzen Sie die Möglichkeit, sich mit Alumni der TUM über Berufseinstieg und Karrierewege auszutauschen.
CONTACT:Eva Willkomm, eva.willkomm@tum.de
LOCATION:Campus Weihenstephan
CLASS:PUBLIC
URL;VALUE=URL:https://portal.mytum.de/termine/Event.2014-10-07.2287337442
CREATED:20141007T161246
DTEND;TZID=Europe/Berlin:20141029T161500
END:VEVENT
END:VCALENDAR
