BEGIN:VCALENDAR
PRODID:-//Dr. Thomas Wagner\, TUM WWW & Online Services//myTUM Advanced Calendaring 0.1//DE
VERSION:2.0
METHOD:GET
BEGIN:VTIMEZONE
TZID:Europe/Berlin
BEGIN:STANDARD
DTSTART:20071028T010000
TZOFFSETTO:+0100
TZOFFSETFROM:+0000
TZNAME:CET
END:STANDARD
BEGIN:DAYLIGHT
TZOFFSETTO:+0200
TZOFFSETFROM:+0100
TZNAME:CEST
DTSTART:20080330T020000
END:DAYLIGHT
END:VTIMEZONE
BEGIN:VEVENT
SEQUENCE:1
TRANSP:OPAQUE
UID:termine_Event.2014-09-19.1701949719_portal.mytum.de
DTSTART;TZID=Europe/Berlin:20141210T170000
ORGANIZER;CN="Sekretariat Hans Eisenmann-Zentrum, Hans-Eisenmann-Zentrum@wzw.tum.de":mailto:Hans-Eisenmann-Zentrum@wzw.tum.de
DTSTAMP:20260424T124159
LAST-MODIFIED:20140919T124950
CATEGORIES:VORTRAG
SUMMARY:Ökonomische Modellierung von Agrarumweltverhalten auf Betriebsebene
CONTACT:Sekretariat Hans Eisenmann-Zentrum, Hans-Eisenmann-Zentrum@wzw.tum.de
LOCATION:Hörsaal 17 (Gebäude Tierwissenschaften), Liesel-Beckmann-Str. 1, 85354 Freising-Weihenstephan
CLASS:PUBLIC
URL;VALUE=URL:https://portal.mytum.de/termine/Event.2014-09-19.1701949719
CREATED:20140919T124950
DTEND;TZID=Europe/Berlin:20141210T183000
END:VEVENT
END:VCALENDAR
