BEGIN:VCALENDAR
PRODID:-//Dr. Thomas Wagner\, TUM WWW & Online Services//myTUM Advanced Calendaring 0.1//DE
VERSION:2.0
METHOD:GET
BEGIN:VTIMEZONE
TZID:Europe/Berlin
BEGIN:STANDARD
DTSTART:20071028T010000
TZOFFSETTO:+0100
TZOFFSETFROM:+0000
TZNAME:CET
END:STANDARD
BEGIN:DAYLIGHT
TZOFFSETTO:+0200
TZOFFSETFROM:+0100
TZNAME:CEST
DTSTART:20080330T020000
END:DAYLIGHT
END:VTIMEZONE
BEGIN:VEVENT
SEQUENCE:1
TRANSP:OPAQUE
UID:termine_Event.2014-09-09.8696830756_portal.mytum.de
DTSTART;TZID=Europe/Berlin:20140901T000000
ORGANIZER;CN="Nina Grote":mailto:nina.grote@tum.de
DTSTAMP:20260420T214126
LAST-MODIFIED:20140909T144750
CATEGORIES:FRIST
SUMMARY:Bewerwerbungsbeginn Didaktikfach Grund- und Hauptschule
CLASS:PUBLIC
URL;VALUE=URL:https://portal.mytum.de/termine/Event.2014-09-09.8696830756
ATTACH;VALUE=URI:http://www.tum.de/studium/bewerbung/semestertermine-und-fristen/wintersemester-201415/
CREATED:20140909T144650
DTEND;TZID=Europe/Berlin:20140901T000000
END:VEVENT
END:VCALENDAR
