BEGIN:VCALENDAR
PRODID:-//Dr. Thomas Wagner\, TUM WWW & Online Services//myTUM Advanced Calendaring 0.1//DE
VERSION:2.0
METHOD:GET
BEGIN:VTIMEZONE
TZID:Europe/Berlin
BEGIN:STANDARD
DTSTART:20071028T010000
TZOFFSETTO:+0100
TZOFFSETFROM:+0000
TZNAME:CET
END:STANDARD
BEGIN:DAYLIGHT
TZOFFSETTO:+0200
TZOFFSETFROM:+0100
TZNAME:CEST
DTSTART:20080330T020000
END:DAYLIGHT
END:VTIMEZONE
BEGIN:VEVENT
SEQUENCE:1
TRANSP:OPAQUE
UID:termine_Event.2014-07-07.9459624717_portal.mytum.de
DTSTART;TZID=Europe/Berlin:20150129T090000
ORGANIZER;CN="Johanna Hofmann":mailto:johanna.hofmann@tum.de
DTSTAMP:20260424T225613
LAST-MODIFIED:20140807T112744
CATEGORIES:SOCIAL EVENT
SUMMARY:Schülertag – Tag der offenen Tür für Studieninteressierte 2015
CLASS:PUBLIC
URL;VALUE=URL:https://portal.mytum.de/termine/Event.2014-07-07.9459624717
CREATED:20140707T114346
DTEND;TZID=Europe/Berlin:20150129T180000
END:VEVENT
END:VCALENDAR
