BEGIN:VCALENDAR
PRODID:-//Dr. Thomas Wagner\, TUM WWW & Online Services//myTUM Advanced Calendaring 0.1//DE
VERSION:2.0
METHOD:GET
BEGIN:VTIMEZONE
TZID:Europe/Berlin
BEGIN:STANDARD
DTSTART:20071028T010000
TZOFFSETTO:+0100
TZOFFSETFROM:+0000
TZNAME:CET
END:STANDARD
BEGIN:DAYLIGHT
TZOFFSETTO:+0200
TZOFFSETFROM:+0100
TZNAME:CEST
DTSTART:20080330T020000
END:DAYLIGHT
END:VTIMEZONE
BEGIN:VEVENT
SEQUENCE:1
TRANSP:OPAQUE
UID:termine_Event.2014-07-07.8439144327_portal.mytum.de
DTSTART;TZID=Europe/Berlin:20151112T090000
ORGANIZER;CN="Johanna Hofmann":mailto:johanna.hofmann@tum.de
DTSTAMP:20260420T205758
LAST-MODIFIED:20140707T114753
CATEGORIES:SOCIAL EVENT
SUMMARY:Green Day - Infotag für Studieninteressierte: Studienmöglichkeiten und Forschung an der TUM im Bereich "Umwelt"
CLASS:PUBLIC
URL;VALUE=URL:https://portal.mytum.de/termine/Event.2014-07-07.8439144327
CREATED:20140707T114753
DTEND;TZID=Europe/Berlin:20151112T170000
END:VEVENT
END:VCALENDAR
