BEGIN:VCALENDAR
PRODID:-//Dr. Thomas Wagner\, TUM WWW & Online Services//myTUM Advanced Calendaring 0.1//DE
VERSION:2.0
METHOD:GET
BEGIN:VTIMEZONE
TZID:Europe/Berlin
BEGIN:STANDARD
DTSTART:20071028T010000
TZOFFSETTO:+0100
TZOFFSETFROM:+0000
TZNAME:CET
END:STANDARD
BEGIN:DAYLIGHT
TZOFFSETTO:+0200
TZOFFSETFROM:+0100
TZNAME:CEST
DTSTART:20080330T020000
END:DAYLIGHT
END:VTIMEZONE
BEGIN:VEVENT
SEQUENCE:1
TRANSP:OPAQUE
UID:termine_Event.2014-07-07.7826637098_portal.mytum.de
DTSTART;TZID=Europe/Berlin:20150611T173000
ORGANIZER;CN="Johanna Hofmann":mailto:johanna.hofmann@tum.de
DTSTAMP:20260423T111547
LAST-MODIFIED:20141117T172200
CATEGORIES:VORTRAG
SUMMARY:Ran an die TUM: Perspektive Studium - Medizin
DESCRIPTION:Bei der Vortragsreihe für Studieninteressierte 2014/2015 stellen die Fakultäten der Technischen Universität München sich und ihre Studiengänge vor. Heute: Human? Medizin. Die Fakultät für Medizin stellt sich vor.
CLASS:PUBLIC
URL;VALUE=URL:https://portal.mytum.de/termine/Event.2014-07-07.7826637098
CREATED:20140707T113416
DTEND;TZID=Europe/Berlin:20150611T190000
END:VEVENT
END:VCALENDAR
