BEGIN:VCALENDAR
PRODID:-//Dr. Thomas Wagner\, TUM WWW & Online Services//myTUM Advanced Calendaring 0.1//DE
VERSION:2.0
METHOD:GET
BEGIN:VTIMEZONE
TZID:Europe/Berlin
BEGIN:STANDARD
DTSTART:20071028T010000
TZOFFSETTO:+0100
TZOFFSETFROM:+0000
TZNAME:CET
END:STANDARD
BEGIN:DAYLIGHT
TZOFFSETTO:+0200
TZOFFSETFROM:+0100
TZNAME:CEST
DTSTART:20080330T020000
END:DAYLIGHT
END:VTIMEZONE
BEGIN:VEVENT
SEQUENCE:1
TRANSP:OPAQUE
UID:termine_Event.2014-05-02.5290980774_portal.mytum.de
DTSTART;TZID=Europe/Berlin:20140515T170000
ORGANIZER;CN="Philipp Reiß":mailto:p.reiss@tum.de
DTSTAMP:20260425T183830
LAST-MODIFIED:20140502T102358
CATEGORIES:VORTRAG
SUMMARY:OTRAG: Die erste private deutsche Raketenfirma  Rückblicke eines Insiders
CONTACT:Philipp Reiß
LOCATION:MW 1250
CLASS:PUBLIC
URL;VALUE=URL:https://portal.mytum.de/termine/Event.2014-05-02.5290980774
ATTACH;VALUE=URI:http://web.lrt.mw.tum.de/index.php?id=22
CREATED:20140502T102046
DTEND;TZID=Europe/Berlin:20140515T183000
END:VEVENT
END:VCALENDAR
