BEGIN:VCALENDAR
PRODID:-//Dr. Thomas Wagner\, TUM WWW & Online Services//myTUM Advanced Calendaring 0.1//DE
VERSION:2.0
METHOD:GET
BEGIN:VTIMEZONE
TZID:Europe/Berlin
BEGIN:STANDARD
DTSTART:20071028T010000
TZOFFSETTO:+0100
TZOFFSETFROM:+0000
TZNAME:CET
END:STANDARD
BEGIN:DAYLIGHT
TZOFFSETTO:+0200
TZOFFSETFROM:+0100
TZNAME:CEST
DTSTART:20080330T020000
END:DAYLIGHT
END:VTIMEZONE
BEGIN:VEVENT
SEQUENCE:1
TRANSP:OPAQUE
UID:termine_Event.2014-04-14.9757923128_portal.mytum.de
DTSTART;TZID=Europe/Berlin:20140428T180000
ORGANIZER;CN="Andrada Catranici":mailto:andrada.catranici@tum.de
DTSTAMP:20260425T154624
LAST-MODIFIED:20140414T182048
SUMMARY:Infoabend: Erwerb Sportführerschein
DESCRIPTION:Von der Segelabteilung des USC München und dem Segelzentrum des ZHS werden Lehrgänge angeboten zum Erwerb der amtlich notwendigen Sportbootführerscheine Sportbootführerschein-See, Sportbootführerschein Binnen (Motor) sowie der amtlich freiwilligen Wassersportführerscheine Sportküstenschifferschein, Sportbootführerschein-Binnen (Segel) (von Vermietern/Versicherungen gefordert). Auf der Informations- und Einführungsveranstaltung können Sie sich auch für die Ausbildungen in Theorie und Praxis anmelden.
LOCATION:MI Hörsaal 2, Campus Garching
CLASS:PUBLIC
URL;VALUE=URL:https://portal.mytum.de/termine/Event.2014-04-14.9757923128
ATTACH;VALUE=URI:http://www.klausseidl.de/
CREATED:20140414T174639
DTEND;TZID=Europe/Berlin:20140428T210000
END:VEVENT
END:VCALENDAR
