BEGIN:VCALENDAR
PRODID:-//Dr. Thomas Wagner\, TUM WWW & Online Services//myTUM Advanced Calendaring 0.1//DE
VERSION:2.0
METHOD:GET
BEGIN:VTIMEZONE
TZID:Europe/Berlin
BEGIN:STANDARD
DTSTART:20071028T010000
TZOFFSETTO:+0100
TZOFFSETFROM:+0000
TZNAME:CET
END:STANDARD
BEGIN:DAYLIGHT
TZOFFSETTO:+0200
TZOFFSETFROM:+0100
TZNAME:CEST
DTSTART:20080330T020000
END:DAYLIGHT
END:VTIMEZONE
BEGIN:VEVENT
SEQUENCE:1
TRANSP:OPAQUE
UID:termine_Event.2014-04-04.1837279212_portal.mytum.de
DTSTART;TZID=Europe/Berlin:20140515T173000
ORGANIZER;CN="Markus Geiser":mailto:markus.geiser@tum.de
DTSTAMP:20260420T115017
LAST-MODIFIED:20140404T183751
CATEGORIES:VORTRAG
SUMMARY:Development of Landing Gear Concepts: How do you catch 600 tonnes at 380 km/hr?
CONTACT:Markus Geiser
LOCATION:Hörsaal MW 1801, Fakultät für Maschinenwesen, Garching
CLASS:PUBLIC
URL;VALUE=URL:https://portal.mytum.de/termine/Event.2014-04-04.1837279212
CREATED:20140404T183751
DTEND;TZID=Europe/Berlin:20140515T190000
END:VEVENT
END:VCALENDAR
