BEGIN:VCALENDAR
PRODID:-//Dr. Thomas Wagner\, TUM WWW & Online Services//myTUM Advanced Calendaring 0.1//DE
VERSION:2.0
METHOD:GET
BEGIN:VTIMEZONE
TZID:Europe/Berlin
BEGIN:STANDARD
DTSTART:20071028T010000
TZOFFSETTO:+0100
TZOFFSETFROM:+0000
TZNAME:CET
END:STANDARD
BEGIN:DAYLIGHT
TZOFFSETTO:+0200
TZOFFSETFROM:+0100
TZNAME:CEST
DTSTART:20080330T020000
END:DAYLIGHT
END:VTIMEZONE
BEGIN:VEVENT
SEQUENCE:1
TRANSP:OPAQUE
UID:termine_Event.2014-03-24.3729090458_portal.mytum.de
DTSTART;TZID=Europe/Berlin:20141210T120000
ORGANIZER;CN="masterberatung@tum.de":mailto:masterberatung@tum.de
DTSTAMP:20260424T223843
LAST-MODIFIED:20140324T154619
CATEGORIES:SOCIAL EVENT
SUMMARY:TUM Mastermesse 2014
DESCRIPTION:Sie interessieren sich für ein weiterführendes Studium an der TU München? Lernen Sie unser umfangreiches Studienangebot kennen und finden Sie heraus, welches Masterprogramm zu Ihnen passen könnte. Wir freuen uns auf Ihren Besuch!
CONTACT:masterberatung@tum.de
LOCATION:Campus Innenstadt, Immatrikulationshalle
CLASS:PUBLIC
URL;VALUE=URL:https://portal.mytum.de/termine/Event.2014-03-24.3729090458
CREATED:20140324T154619
DTEND;TZID=Europe/Berlin:20141210T160000
END:VEVENT
END:VCALENDAR
