BEGIN:VCALENDAR
PRODID:-//Dr. Thomas Wagner\, TUM WWW & Online Services//myTUM Advanced Calendaring 0.1//DE
VERSION:2.0
METHOD:GET
BEGIN:VTIMEZONE
TZID:Europe/Berlin
BEGIN:STANDARD
DTSTART:20071028T010000
TZOFFSETTO:+0100
TZOFFSETFROM:+0000
TZNAME:CET
END:STANDARD
BEGIN:DAYLIGHT
TZOFFSETTO:+0200
TZOFFSETFROM:+0100
TZNAME:CEST
DTSTART:20080330T020000
END:DAYLIGHT
END:VTIMEZONE
BEGIN:VEVENT
SEQUENCE:1
TRANSP:OPAQUE
UID:termine_Event.2014-03-20.9617298817_portal.mytum.de
DTSTART;TZID=Europe/Berlin:20140322T180000
ORGANIZER;CN="Andrada Catranici":mailto:andrada.catranici@tum.de
DTSTAMP:20260421T050303
LAST-MODIFIED:20140320T163953
CATEGORIES:SOCIAL EVENT
SUMMARY:Weltwassertag 2014 – "wasser & energie": Installation "Isarleuchten"
DESCRIPTION:Mit dem Vorhaben „Isarleuchten“ soll zum diesjährigen Weltwassertag der Vereinten Nationen im Zentrum Münchens die Isar an einem Punkt zum Leuchten gebracht werden. Als Energiequelle dient dabei der Fluss selbst.  Mitarbeit: Andreas Zeiselmair
LOCATION:Isar, Weideninsel, München (zwischen Wittelsbacher- und Reichenbachbrücke)
CLASS:PUBLIC
URL;VALUE=URL:https://portal.mytum.de/termine/Event.2014-03-20.9617298817
CREATED:20140320T113844
DTEND;TZID=Europe/Berlin:20140322T200000
END:VEVENT
END:VCALENDAR
