BEGIN:VCALENDAR
PRODID:-//Dr. Thomas Wagner\, TUM WWW & Online Services//myTUM Advanced Calendaring 0.1//DE
VERSION:2.0
METHOD:GET
BEGIN:VTIMEZONE
TZID:Europe/Berlin
BEGIN:STANDARD
DTSTART:20071028T010000
TZOFFSETTO:+0100
TZOFFSETFROM:+0000
TZNAME:CET
END:STANDARD
BEGIN:DAYLIGHT
TZOFFSETTO:+0200
TZOFFSETFROM:+0100
TZNAME:CEST
DTSTART:20080330T020000
END:DAYLIGHT
END:VTIMEZONE
BEGIN:VEVENT
SEQUENCE:1
TRANSP:OPAQUE
UID:termine_Event.2014-03-19.2094113934_portal.mytum.de
DTSTART;TZID=Europe/Berlin:20140707T181500
ORGANIZER;CN="cvl-a@tum.de":mailto:cvl-a@tum.de
DTSTAMP:20260420T164049
LAST-MODIFIED:20140319T091648
CATEGORIES:VORTRAG
SUMMARY:BIG DATA, aber sicher! (Vortragsreihe "Technik und Ethik")
DESCRIPTION:Seit über 20 Jahren bietet die TU München zusammen mit den Hochschulgemeinden die Vortragsreihe "Technik und Ethik" an. Im Sommersemester sprechen renommierte Philosophen und Wissenschaftler über die Schnittstellen von Technik, Ethik und Gesellschaft. Im Mittelpunkt steht dabei die Frage "Big Data – die neue Weltordnung?".
CONTACT:cvl-a@tum.de
LOCATION:Hörsaal 1.260 (Eingang: gegenüber Gabelsbergerstr. 47), TU München Stammgelände, Arcisstr. 21
CLASS:PUBLIC
URL;VALUE=URL:https://portal.mytum.de/termine/Event.2014-03-19.2094113934
ATTACH;VALUE=URI:http://www.mcts.tum.de/cvl-a/oeffentliche-vorlesungen/technik-und-ethik/
ATTACH;VALUE=URI:https://portal.mytum.de/termine/Event.2014-03-19.2094113934/FLYER_BigData_SoS14
CREATED:20140319T091530
DTEND;TZID=Europe/Berlin:20140707T200000
END:VEVENT
END:VCALENDAR
