BEGIN:VCALENDAR
PRODID:-//Dr. Thomas Wagner\, TUM WWW & Online Services//myTUM Advanced Calendaring 0.1//DE
VERSION:2.0
METHOD:GET
BEGIN:VTIMEZONE
TZID:Europe/Berlin
BEGIN:STANDARD
DTSTART:20071028T010000
TZOFFSETTO:+0100
TZOFFSETFROM:+0000
TZNAME:CET
END:STANDARD
BEGIN:DAYLIGHT
TZOFFSETTO:+0200
TZOFFSETFROM:+0100
TZNAME:CEST
DTSTART:20080330T020000
END:DAYLIGHT
END:VTIMEZONE
BEGIN:VEVENT
SEQUENCE:1
TRANSP:OPAQUE
UID:termine_Event.2014-01-20.9212143400_portal.mytum.de
DTSTART;TZID=Europe/Berlin:20140125T090000
ORGANIZER;CN="Ganna Prit":mailto:ganna.prit@mytum.de
DTSTAMP:20260423T215141
LAST-MODIFIED:20140120T185455
CATEGORIES:VORTRAG
SUMMARY:Interdisziplinäre Forschung der medizinischen Fakultät mit anderen Fakultäten der TUM 
LOCATION:IMETUM Zentralinstitut für Medizintechnik
CLASS:PUBLIC
URL;VALUE=URL:https://portal.mytum.de/termine/Event.2014-01-20.9212143400
CREATED:20140120T185455
DTEND;TZID=Europe/Berlin:20140125T130000
END:VEVENT
END:VCALENDAR
