BEGIN:VCALENDAR
PRODID:-//Dr. Thomas Wagner\, TUM WWW & Online Services//myTUM Advanced Calendaring 0.1//DE
VERSION:2.0
METHOD:GET
BEGIN:VTIMEZONE
TZID:Europe/Berlin
BEGIN:STANDARD
DTSTART:20071028T010000
TZOFFSETTO:+0100
TZOFFSETFROM:+0000
TZNAME:CET
END:STANDARD
BEGIN:DAYLIGHT
TZOFFSETTO:+0200
TZOFFSETFROM:+0100
TZNAME:CEST
DTSTART:20080330T020000
END:DAYLIGHT
END:VTIMEZONE
BEGIN:VEVENT
SEQUENCE:1
TRANSP:OPAQUE
UID:termine_Event.2013-11-13.5750543725_portal.mytum.de
DTSTART;TZID=Europe/Berlin:20140124T090000
ORGANIZER;CN="Elli Kleidorfer":mailto:elli.kleidorfer@tum.de
DTSTAMP:20260419T231531
LAST-MODIFIED:20140115T105115
CATEGORIES:VORTRAG
SUMMARY:Holzwissenschaftliches Seminar
DESCRIPTION:In den Holzwissenschaftlichen Seminaren werden aktuelle Ergebnisse aus Forschungsarbeiten sowohl von externen Gastreferenten (Universitäten, Fachhochschulen, Forschungsinstitute etc. aus Deutschland und Europa) sowie von internen Referenten/Mitarbeitern der HFM@TUM (laufende Projekte, Bachelor- und Masterarbeiten, etc.) allen Interessierten vorgestellt. Die Seminare bieten die Möglichkeit, sich über die Inhalte und Ergebnisse der jeweiligen Arbeit zu informieren und im Anschluss an die einzelnen Vorträge Fragen zu diskutieren. Bitte beachten Sie das detaillierte Programm (siehe Link zur HFM@TUM-Homepage).
CONTACT:Frau Kleidorfer, Tel. 089 / 2180-6422
LOCATION:Winzererstr. 45, 80797 München
CLASS:PUBLIC
URL;VALUE=URL:https://portal.mytum.de/termine/Event.2013-11-13.5750543725
ATTACH;VALUE=URI:http://www.hfm.tum.de/fileadmin/user_upload/aktuelles/20140124_Holzwissenschaftliches_Seminar.pdf
CREATED:20131113T103916
DTEND;TZID=Europe/Berlin:20140124T120000
END:VEVENT
END:VCALENDAR
