BEGIN:VCALENDAR
PRODID:-//Dr. Thomas Wagner\, TUM WWW & Online Services//myTUM Advanced Calendaring 0.1//DE
VERSION:2.0
METHOD:GET
BEGIN:VTIMEZONE
TZID:Europe/Berlin
BEGIN:STANDARD
DTSTART:20071028T010000
TZOFFSETTO:+0100
TZOFFSETFROM:+0000
TZNAME:CET
END:STANDARD
BEGIN:DAYLIGHT
TZOFFSETTO:+0200
TZOFFSETFROM:+0100
TZNAME:CEST
DTSTART:20080330T020000
END:DAYLIGHT
END:VTIMEZONE
BEGIN:VEVENT
SEQUENCE:1
TRANSP:OPAQUE
UID:termine_Event.2013-10-14.2953630169_portal.mytum.de
DTSTART;TZID=Europe/Berlin:20131106T120000
ORGANIZER;CN="Eva Willkomm, eva.willkomm@tum.de":mailto:eva.willkomm@tum.de
DTSTAMP:20260421T132158
LAST-MODIFIED:20131014T114337
CATEGORIES:WORKSHOP
SUMMARY:Job oder Master - nach dem Bachelor zunächst in die Wirtschaft oder sofort ins Masterstudium? 
DESCRIPTION:Podiumsdiskussion, Kooperation mit dem Studenten-Service-Zentrum
CONTACT:Eva Willkomm, eva.willkomm@tum.de
LOCATION:TUM Campus Innenstadt
CLASS:PUBLIC
URL;VALUE=URL:https://portal.mytum.de/termine/Event.2013-10-14.2953630169
ATTACH;VALUE=URI:http://www.career.tum.de/news/aktuelle-veranstaltungen/
CREATED:20131014T114337
DTEND;TZID=Europe/Berlin:20131106T130000
END:VEVENT
END:VCALENDAR
