BEGIN:VCALENDAR
PRODID:-//Dr. Thomas Wagner\, TUM WWW & Online Services//myTUM Advanced Calendaring 0.1//DE
VERSION:2.0
METHOD:GET
BEGIN:VTIMEZONE
TZID:Europe/Berlin
BEGIN:STANDARD
DTSTART:20071028T010000
TZOFFSETTO:+0100
TZOFFSETFROM:+0000
TZNAME:CET
END:STANDARD
BEGIN:DAYLIGHT
TZOFFSETTO:+0200
TZOFFSETFROM:+0100
TZNAME:CEST
DTSTART:20080330T020000
END:DAYLIGHT
END:VTIMEZONE
BEGIN:VEVENT
SEQUENCE:1
TRANSP:OPAQUE
UID:termine_Event.2013-09-18.8039907118_portal.mytum.de
DTSTART;TZID=Europe/Berlin:20131028T090000
ORGANIZER;CN="herbstuniversitaet@zv.tum.de":mailto:herbstuniversitaet@zv.tum.de
DTSTAMP:20260420T062353
LAST-MODIFIED:20130918T140012
CATEGORIES:WORKSHOP
SUMMARY:Schülerinnen forschen - die Herbstuniversität an der TUM
DESCRIPTION:für Schülerinnen ab der 10. Klasse
CONTACT:herbstuniversitaet@zv.tum.de
CLASS:PUBLIC
URL;VALUE=URL:https://portal.mytum.de/termine/Event.2013-09-18.8039907118
CREATED:20130918T135512
DTEND;TZID=Europe/Berlin:20131030T170000
END:VEVENT
END:VCALENDAR
