BEGIN:VCALENDAR
PRODID:-//Dr. Thomas Wagner\, TUM WWW & Online Services//myTUM Advanced Calendaring 0.1//DE
VERSION:2.0
METHOD:GET
BEGIN:VTIMEZONE
TZID:Europe/Berlin
BEGIN:STANDARD
DTSTART:20071028T010000
TZOFFSETTO:+0100
TZOFFSETFROM:+0000
TZNAME:CET
END:STANDARD
BEGIN:DAYLIGHT
TZOFFSETTO:+0200
TZOFFSETFROM:+0100
TZNAME:CEST
DTSTART:20080330T020000
END:DAYLIGHT
END:VTIMEZONE
BEGIN:VEVENT
SEQUENCE:1
TRANSP:OPAQUE
UID:termine_Event.2013-08-21.2301835497_portal.mytum.de
DTSTART;TZID=Europe/Berlin:20131029T183000
ORGANIZER;CN="Eva Graß - eva.grass@tum.de":mailto:eva.grass@tum.de
DTSTAMP:20260420T230522
LAST-MODIFIED:20130821T154413
CATEGORIES:WORKSHOP
SUMMARY:meet & match mit Campus Lounge
DESCRIPTION:TUM Mentoringprogramm-Netzwerktreffen mit Speedmentoring zur Tandembildung.
CONTACT:Eva Graß - eva.grass@tum.de
LOCATION:Dieter Thoma Labor, TUM Campus Innenstadt (Zugang über Innenhof)
CLASS:PUBLIC
URL;VALUE=URL:https://portal.mytum.de/termine/Event.2013-08-21.2301835497
ATTACH;VALUE=URI:http://www.mentoring.tum.de/tum-mentoring/
CREATED:20130821T154413
DTEND;TZID=Europe/Berlin:20131029T203000
END:VEVENT
END:VCALENDAR
