BEGIN:VCALENDAR
PRODID:-//Dr. Thomas Wagner\, TUM WWW & Online Services//myTUM Advanced Calendaring 0.1//DE
VERSION:2.0
METHOD:GET
BEGIN:VTIMEZONE
TZID:Europe/Berlin
BEGIN:STANDARD
DTSTART:20071028T010000
TZOFFSETTO:+0100
TZOFFSETFROM:+0000
TZNAME:CET
END:STANDARD
BEGIN:DAYLIGHT
TZOFFSETTO:+0200
TZOFFSETFROM:+0100
TZNAME:CEST
DTSTART:20080330T020000
END:DAYLIGHT
END:VTIMEZONE
BEGIN:VEVENT
SEQUENCE:1
TRANSP:OPAQUE
UID:termine_Event.2013-06-05.1251768701_portal.mytum.de
DTSTART;TZID=Europe/Berlin:20130608T000000
ORGANIZER;CN="Christoph Reith":mailto:ch.reith@tum.de
DTSTAMP:20260421T132136
LAST-MODIFIED:20130605T174846
CATEGORIES:SOCIAL EVENT
SUMMARY:Aktionswoche der Geodäsie in Bayern
DESCRIPTION:Die Bayerische Woche der Geodäsie ist eine gemeinsame Aktion der Bayerischen Vermessungsverwaltung, der Verwaltung für Ländliche Entwicklung, der Technischen Universität München, der Hochschulen für angewandte Wissenschaften München und Würzburg-Schweinfurt, der freien geodätischen Berufe, des Deutschen Vereins für Vermessungswesen Bayern e. V. – Gesellschaft für Geodäsie, Geoinformation und Landmanagement (DVW-Bayern), des Verbandes Beratender Ingenieure Bayern (VBI Bayern), des Ingenieurverbandes Geoinformation und Vermessung Bayern e. V. (IGVB) und des Verbandes Deutscher Vermessungsingenieure e. V. (VDV-Bayern), um das Berufsbild des Geodäten bekannter zu machen. 
CLASS:PUBLIC
URL;VALUE=URL:https://portal.mytum.de/termine/Event.2013-06-05.1251768701
ATTACH;VALUE=URI:http://www.vermessung.bayern.de/aktuell.html
CREATED:20130605T174815
DTEND;TZID=Europe/Berlin:20130615T174000
END:VEVENT
END:VCALENDAR
