BEGIN:VCALENDAR
PRODID:-//Dr. Thomas Wagner\, TUM WWW & Online Services//myTUM Advanced Calendaring 0.1//DE
VERSION:2.0
METHOD:GET
BEGIN:VTIMEZONE
TZID:Europe/Berlin
BEGIN:STANDARD
DTSTART:20071028T010000
TZOFFSETTO:+0100
TZOFFSETFROM:+0000
TZNAME:CET
END:STANDARD
BEGIN:DAYLIGHT
TZOFFSETTO:+0200
TZOFFSETFROM:+0100
TZNAME:CEST
DTSTART:20080330T020000
END:DAYLIGHT
END:VTIMEZONE
BEGIN:VEVENT
SEQUENCE:1
TRANSP:OPAQUE
UID:termine_Event.2013-05-02.6247691161_portal.mytum.de
DTSTART;TZID=Europe/Berlin:20130701T100000
ORGANIZER;CN="Stella Schieferstein":mailto:stella.schieferstein@tum.de
DTSTAMP:20260419T231511
LAST-MODIFIED:20130502T094303
CATEGORIES:WORKSHOP
SUMMARY:Marketing in eigener Sache – Ein Workshop für Naturwissenschaftlerinnen und Naturwissenschaftler beim Berufseinstieg
DESCRIPTION:Im Mittelpunkt des Workshops stehen Kommunikationssituationen rund um den Berufseinstieg – beispielsweise ein Telefoninterview, ein Vorstellungsgespräch, ein Gespräch auf einer Recruitingmesse oder in der ersten Berufszeit Gespräche am Arbeitsplatz oder bei Kunden. Dabei erarbeiten Sie passende und überzeugende Argumente zu Ihrem individuellen Profil und Ihrem naturwissenschaftlichen Studienabschluss und können diese in Gruppenübungen direkt erproben.
LOCATION:TUM Campus Weihenstephan
CLASS:PUBLIC
URL;VALUE=URL:https://portal.mytum.de/termine/Event.2013-05-02.6247691161
CREATED:20130502T094303
DTEND;TZID=Europe/Berlin:20130701T180000
END:VEVENT
END:VCALENDAR
