BEGIN:VCALENDAR
PRODID:-//Dr. Thomas Wagner\, TUM WWW & Online Services//myTUM Advanced Calendaring 0.1//DE
VERSION:2.0
METHOD:GET
BEGIN:VTIMEZONE
TZID:Europe/Berlin
BEGIN:STANDARD
DTSTART:20071028T010000
TZOFFSETTO:+0100
TZOFFSETFROM:+0000
TZNAME:CET
END:STANDARD
BEGIN:DAYLIGHT
TZOFFSETTO:+0200
TZOFFSETFROM:+0100
TZNAME:CEST
DTSTART:20080330T020000
END:DAYLIGHT
END:VTIMEZONE
BEGIN:VEVENT
SEQUENCE:1
TRANSP:OPAQUE
UID:termine_Event.2013-03-13.4547379590_portal.mytum.de
DTSTART;TZID=Europe/Berlin:20130424T170000
ORGANIZER;CN="Diane Clayton-Winter":mailto:diane.clayton-winter@tum.de
DTSTAMP:20260420T115246
LAST-MODIFIED:20130313T102433
CATEGORIES:SOCIAL EVENT
SUMMARY:SCIENCE SLAM zur Eröffnung des SFB / TR109 
DESCRIPTION:Im Hörsaal 1 des Zentrums Mathematik treten 3 Münchner Wissenschaftler an, um per Live-Broadcast nach Berlin ihren dortigen Kontrahenten mit möglichst viel Unterhaltungswert bei gleichzeitiger fachlicher Tiefe zu heraus zu fordern. Durch die knappe Vortragsdauer von nur 8,53973 Minuten sowie den kurzweiligen Inhalt des Slams – Bilder aus der Diskreten Geometrie werden verständlich(!) erklärt – ist für gute Unterhaltung auch bei Diskretisierungs-Laien gesorgt. Die Eröffnungsfeier mit Science Slam und anschließendem Empfang ist öffentlich: schauen Sie rein und lassen Sie sich auf ein neues, diskretes Erlebnis ein!
CONTACT:Prof. Jürgen Richter-Gebert
LOCATION:TUM Garching, Zentrum Mathematik, HS1
CLASS:PUBLIC
URL;VALUE=URL:https://portal.mytum.de/termine/Event.2013-03-13.4547379590
CREATED:20130313T102433
DTEND;TZID=Europe/Berlin:20130424T200000
END:VEVENT
END:VCALENDAR
