BEGIN:VCALENDAR
PRODID:-//Dr. Thomas Wagner\, TUM WWW & Online Services//myTUM Advanced Calendaring 0.1//DE
VERSION:2.0
METHOD:GET
BEGIN:VTIMEZONE
TZID:Europe/Berlin
BEGIN:STANDARD
DTSTART:20071028T010000
TZOFFSETTO:+0100
TZOFFSETFROM:+0000
TZNAME:CET
END:STANDARD
BEGIN:DAYLIGHT
TZOFFSETTO:+0200
TZOFFSETFROM:+0100
TZNAME:CEST
DTSTART:20080330T020000
END:DAYLIGHT
END:VTIMEZONE
BEGIN:VEVENT
SEQUENCE:1
TRANSP:OPAQUE
UID:termine_Event.2013-02-01.5204434215_portal.mytum.de
DTSTART;TZID=Europe/Berlin:20130218T100000
ORGANIZER;CN="Daniela Schulte":mailto:daniela.schulte@tum.de
DTSTAMP:20260425T181643
LAST-MODIFIED:20130201T124436
CATEGORIES:TAGUNG
SUMMARY:10. Rohstoffseminar Weihenstephan
CONTACT:Univ.-Prof. Dr. Thomas Becker
LOCATION:Zeichensaal O18 des Lehrstuhl für Verfahrenstechnik disperser Systeme, Maximus-v.-Imhof-Forum 2, Weihenstephan
CLASS:PUBLIC
URL;VALUE=URL:https://portal.mytum.de/termine/Event.2013-02-01.5204434215
ATTACH;VALUE=URI:http://wzw.tum.de/bgt/index.php?id=252
CREATED:20130201T124436
DTEND;TZID=Europe/Berlin:20130218T183000
END:VEVENT
END:VCALENDAR
