BEGIN:VCALENDAR
PRODID:-//Dr. Thomas Wagner\, TUM WWW & Online Services//myTUM Advanced Calendaring 0.1//DE
VERSION:2.0
METHOD:GET
BEGIN:VTIMEZONE
TZID:Europe/Berlin
BEGIN:STANDARD
DTSTART:20071028T010000
TZOFFSETTO:+0100
TZOFFSETFROM:+0000
TZNAME:CET
END:STANDARD
BEGIN:DAYLIGHT
TZOFFSETTO:+0200
TZOFFSETFROM:+0100
TZNAME:CEST
DTSTART:20080330T020000
END:DAYLIGHT
END:VTIMEZONE
BEGIN:VEVENT
SEQUENCE:1
TRANSP:OPAQUE
UID:termine_Event.2013-01-23.6742405646_portal.mytum.de
DTSTART;TZID=Europe/Berlin:20130301T180000
ORGANIZER;CN="Fabian Kautz":mailto:fabian.kautz@tum.de
DTSTAMP:20260419T172209
LAST-MODIFIED:20130123T101153
CATEGORIES:SOCIAL EVENT
SUMMARY:Tag der Fakultät
DESCRIPTION:Die Fakultät für Sport- und Gesundheitswissenschaft feiert ihr 10-jähriges Bestehen. Während der Veranstaltung werden die Absolventen des Jahrgangs 2012 in einem feierlichen Rahmen verabschiedet.
CONTACT:Daniela Pfarr
LOCATION;ALTREP="https://portal.mytum.de/displayRoomMap?roomid=0980@0509":0980@0509, AUDIMAX, Siemens-Hörsaal, Auditorium Maximum, Gebäude 0509 (Wienandsbau)
CLASS:PUBLIC
URL;VALUE=URL:https://portal.mytum.de/termine/Event.2013-01-23.6742405646
CREATED:20130123T101045
DTEND;TZID=Europe/Berlin:20130301T235500
END:VEVENT
END:VCALENDAR
