BEGIN:VCALENDAR
PRODID:-//Dr. Thomas Wagner\, TUM WWW & Online Services//myTUM Advanced Calendaring 0.1//DE
VERSION:2.0
METHOD:GET
BEGIN:VTIMEZONE
TZID:Europe/Berlin
BEGIN:STANDARD
DTSTART:20071028T010000
TZOFFSETTO:+0100
TZOFFSETFROM:+0000
TZNAME:CET
END:STANDARD
BEGIN:DAYLIGHT
TZOFFSETTO:+0200
TZOFFSETFROM:+0100
TZNAME:CEST
DTSTART:20080330T020000
END:DAYLIGHT
END:VTIMEZONE
BEGIN:VEVENT
SEQUENCE:1
TRANSP:OPAQUE
UID:termine_Event.2012-12-13.1356062103_portal.mytum.de
DTSTART;TZID=Europe/Berlin:20130127T200000
ORGANIZER;CN="Yves Fukamori":mailto:yves.fukamori@tum.de
DTSTAMP:20260421T010244
LAST-MODIFIED:20121213T140713
CATEGORIES:SOCIAL EVENT
SUMMARY:Brahms: Ein Deutsches Requiem
DESCRIPTION:Anna-Maria Bogner, Sopran --- Günter Papendell, Bariton --- UniversitätsChor München --- Collegium Musicum München --- Leitung: Johannes Kleinjung
LOCATION:Große Aula der Ludwig-Maximilians-Universität, Geschwister Scholl-Platz 1
CLASS:PUBLIC
URL;VALUE=URL:https://portal.mytum.de/termine/Event.2012-12-13.1356062103
CREATED:20121213T140341
DTEND;TZID=Europe/Berlin:20130127T214500
END:VEVENT
END:VCALENDAR
