BEGIN:VCALENDAR
PRODID:-//Dr. Thomas Wagner\, TUM WWW & Online Services//myTUM Advanced Calendaring 0.1//DE
VERSION:2.0
METHOD:GET
BEGIN:VTIMEZONE
TZID:Europe/Berlin
BEGIN:STANDARD
DTSTART:20071028T010000
TZOFFSETTO:+0100
TZOFFSETFROM:+0000
TZNAME:CET
END:STANDARD
BEGIN:DAYLIGHT
TZOFFSETTO:+0200
TZOFFSETFROM:+0100
TZNAME:CEST
DTSTART:20080330T020000
END:DAYLIGHT
END:VTIMEZONE
BEGIN:VEVENT
SEQUENCE:1
TRANSP:OPAQUE
UID:termine_Event.2012-11-13.2145925996_portal.mytum.de
DTSTART;TZID=Europe/Berlin:20121113T143000
ORGANIZER;CN="Martina Spreng":mailto:martina.spreng@tum.de
DTSTAMP:20260423T215041
LAST-MODIFIED:20121113T102937
CATEGORIES:FORTBILDUNG
SUMMARY:EI Orientierungstag
CONTACT:Martina Spreng 
CLASS:PUBLIC
URL;VALUE=URL:https://portal.mytum.de/termine/Event.2012-11-13.2145925996
ATTACH;VALUE=URI:http://www.ei.tum.de/studienangebot/schuelerinnen-und-schueler/
CREATED:20121113T102937
DTEND;TZID=Europe/Berlin:20121113T170000
END:VEVENT
END:VCALENDAR
