BEGIN:VCALENDAR
PRODID:-//Dr. Thomas Wagner\, TUM WWW & Online Services//myTUM Advanced Calendaring 0.1//DE
VERSION:2.0
METHOD:GET
BEGIN:VTIMEZONE
TZID:Europe/Berlin
BEGIN:STANDARD
DTSTART:20071028T010000
TZOFFSETTO:+0100
TZOFFSETFROM:+0000
TZNAME:CET
END:STANDARD
BEGIN:DAYLIGHT
TZOFFSETTO:+0200
TZOFFSETFROM:+0100
TZNAME:CEST
DTSTART:20080330T020000
END:DAYLIGHT
END:VTIMEZONE
BEGIN:VEVENT
SEQUENCE:1
TRANSP:OPAQUE
UID:termine_Event.2012-10-05.6969692048_portal.mytum.de
DTSTART;TZID=Europe/Berlin:20121015T090000
ORGANIZER;CN="Dr. Christiane Haupt, Olivia Schmid: postdoc@tum.de":mailto:postdoc@tum.de
DTSTAMP:20260420T214016
LAST-MODIFIED:20121005T162903
CATEGORIES:FRIST
SUMMARY:TUM´s Research Opportunities Week_Online-Bewerbung jetzt geöffnet!
CONTACT:Dr. Christiane Haupt, Olivia Schmid: postdoc@tum.de
CLASS:PUBLIC
URL;VALUE=URL:https://portal.mytum.de/termine/Event.2012-10-05.6969692048
ATTACH;VALUE=URI:http://www.tum.de/forschung/postdocs/research-opportunities-week/
CREATED:20121005T162322
DTEND;TZID=Europe/Berlin:20121130T235500
END:VEVENT
END:VCALENDAR
