BEGIN:VCALENDAR
PRODID:-//Dr. Thomas Wagner\, TUM WWW & Online Services//myTUM Advanced Calendaring 0.1//DE
VERSION:2.0
METHOD:GET
BEGIN:VTIMEZONE
TZID:Europe/Berlin
BEGIN:STANDARD
DTSTART:20071028T010000
TZOFFSETTO:+0100
TZOFFSETFROM:+0000
TZNAME:CET
END:STANDARD
BEGIN:DAYLIGHT
TZOFFSETTO:+0200
TZOFFSETFROM:+0100
TZNAME:CEST
DTSTART:20080330T020000
END:DAYLIGHT
END:VTIMEZONE
BEGIN:VEVENT
SEQUENCE:1
TRANSP:OPAQUE
UID:termine_Event.2012-09-20.6187279437_portal.mytum.de
DTSTART;TZID=Europe/Berlin:20121001T160000
ORGANIZER;CN="Iris Barwig":mailto:barwig@tum.de
DTSTAMP:20260421T010458
LAST-MODIFIED:20120920T160311
CATEGORIES:VORTRAG
SUMMARY:m4 Award Informationsveranstaltung am MRI
DESCRIPTION:Der m4 Award richtet sich an Wissenschaftlerteams an Universitäten, Universitätskliniken und außeruniversitären Forschungseinrichtungen in Bayern. Gefördert werden innovative, ausgründungsorientierte Forschungs- und Entwicklungsprojekte im Bereich der personalisierten Medizin. Mit der Förderung sollen signifikante Entwicklungsschritte (proof-of-concept) erreicht werden, die eine Anschluss- oder Gründungsfinanzierung ermöglichen. Es können Projektfördermittel für bis zu 2 Jahre (Richtwert 250.000 Euro pro Jahr) beantragt werden. Zusätzlich erhalten die erfolgreichen Projekte ein professionelles und individuelles Projektmanagement, Coaching und maßgeschneiderte Beratungsleistungen im Wert von bis zu 30.000 Euro. 
LOCATION:Klinikum rechts der Isar Hörsaal C
CLASS:PUBLIC
URL;VALUE=URL:https://portal.mytum.de/termine/Event.2012-09-20.6187279437
ATTACH;VALUE=URI:http://www.m4.de/personalisierte-medizin/m4-scouting-incubation/m4-award.html
CREATED:20120920T160311
DTEND;TZID=Europe/Berlin:20121001T173000
END:VEVENT
END:VCALENDAR
