BEGIN:VCALENDAR
PRODID:-//Dr. Thomas Wagner\, TUM WWW & Online Services//myTUM Advanced Calendaring 0.1//DE
VERSION:2.0
METHOD:GET
BEGIN:VTIMEZONE
TZID:Europe/Berlin
BEGIN:STANDARD
DTSTART:20071028T010000
TZOFFSETTO:+0100
TZOFFSETFROM:+0000
TZNAME:CET
END:STANDARD
BEGIN:DAYLIGHT
TZOFFSETTO:+0200
TZOFFSETFROM:+0100
TZNAME:CEST
DTSTART:20080330T020000
END:DAYLIGHT
END:VTIMEZONE
BEGIN:VEVENT
SEQUENCE:1
TRANSP:OPAQUE
UID:termine_Event.2012-09-17.8447353690_portal.mytum.de
DTSTART;TZID=Europe/Berlin:20120917T110000
ORGANIZER;CN="Natalia Hutanu":mailto:hutanu@tum.de
DTSTAMP:20260422T223704
LAST-MODIFIED:20120917T102101
CATEGORIES:TAGUNG
SUMMARY:Elektrochemie 2012: Forschung für eine nachhaltige Energieversorgung
DESCRIPTION:Die Technische Universität München ist vom 17. bis 19. September Gastgeberin der „Electrochemistry 2012“ die unter dem Motto „Elektrochemische Forschung für eine nachhaltige Energieversorgung steht. Das wissenschaftliche Programm und die lokale Organisation wird von Prof. Katharina Krischer und Prof. Hubert Gasteiger koordiniert, wobei die Federführung der Tagung bei der Fachgruppe Angewandte Elektrochemie der Gesellschaft Deutscher Chemiker (GDCh) liegt. Weiterhin sind die GDCh Fachgruppe Analytische Chemie, die Deutsche Bunsengesellschaft für Physikalische Chemie, die Gesellschaft für Chemische Technik und Biotechnologie (DECHEMA), die Arbeitsgemeinschaft Elektrochemischer Forschungsinstitutionen (AGEF), die Gesellschaft für Korrosionsschutz (GfKORR) und die Deutsche Gesellschaft für Galvano- und Oberflächentechnik (DGO) beteiligt.
CONTACT:Prof. Hubert Gasteiger, Chemie-Department
LOCATION:TU München Audimax
CLASS:PUBLIC
URL;VALUE=URL:https://portal.mytum.de/termine/Event.2012-09-17.8447353690
CREATED:20120917T101951
DTEND;TZID=Europe/Berlin:20120919T180000
END:VEVENT
END:VCALENDAR
