BEGIN:VCALENDAR
PRODID:-//Dr. Thomas Wagner\, TUM WWW & Online Services//myTUM Advanced Calendaring 0.1//DE
VERSION:2.0
METHOD:GET
BEGIN:VTIMEZONE
TZID:Europe/Berlin
BEGIN:STANDARD
DTSTART:20071028T010000
TZOFFSETTO:+0100
TZOFFSETFROM:+0000
TZNAME:CET
END:STANDARD
BEGIN:DAYLIGHT
TZOFFSETTO:+0200
TZOFFSETFROM:+0100
TZNAME:CEST
DTSTART:20080330T020000
END:DAYLIGHT
END:VTIMEZONE
BEGIN:VEVENT
SEQUENCE:1
TRANSP:OPAQUE
UID:termine_Event.2012-08-30.9753706135_portal.mytum.de
DTSTART;TZID=Europe/Berlin:20120908T100000
ORGANIZER;CN="Natalia Hutanu":mailto:hutanu@tum.de
DTSTAMP:20260421T050155
LAST-MODIFIED:20120830T120739
CATEGORIES:SOCIAL EVENT
SUMMARY:NanoDay – ganz exzellent
DESCRIPTION:Blicken Sie hinter die Kulissen der Nanoforschung! Experimentieren Sie gemeinsam mit echten Wissenschaftlern des Nano-Exzellenzclusters NIM! Die Forscher zeigen und erklären an vielen Ständen ihre spannende Arbeit und mehr rund um die Nanowissenschaften. Eine Bühnenshow mit Physikkabarett und Vorträgen, kostenlose Kurse im DNA-Besucherlabor des Museums sowie ein Kinderprogramm runden die Veranstaltung ab. Die Veranstaltung wird organisiert vom Exzellenzcluster „Nanosystems Initiative Munich“ (NIM), an dem auch das Deutsche Museum beteiligt ist. 
CONTACT:Frau Birgit Gebauer
LOCATION:Deutsches Museum, Zentrum Neue Technologien (ZNT)
CLASS:PUBLIC
URL;VALUE=URL:https://portal.mytum.de/termine/Event.2012-08-30.9753706135
CREATED:20120830T120556
DTEND;TZID=Europe/Berlin:20120908T170000
END:VEVENT
END:VCALENDAR
