BEGIN:VCALENDAR
PRODID:-//Dr. Thomas Wagner\, TUM WWW & Online Services//myTUM Advanced Calendaring 0.1//DE
VERSION:2.0
METHOD:GET
BEGIN:VTIMEZONE
TZID:Europe/Berlin
BEGIN:STANDARD
DTSTART:20071028T010000
TZOFFSETTO:+0100
TZOFFSETFROM:+0000
TZNAME:CET
END:STANDARD
BEGIN:DAYLIGHT
TZOFFSETTO:+0200
TZOFFSETFROM:+0100
TZNAME:CEST
DTSTART:20080330T020000
END:DAYLIGHT
END:VTIMEZONE
BEGIN:VEVENT
SEQUENCE:1
TRANSP:OPAQUE
UID:termine_Event.2012-08-08.5251682303_portal.mytum.de
DTSTART;TZID=Europe/Berlin:20121112T170000
ORGANIZER;CN="Marianne Winkelmayer - m.winkelmayer@tum.de":mailto:m.winkelmayer@tum.de
DTSTAMP:20260423T190132
LAST-MODIFIED:20120808T154118
CATEGORIES:LEHRVERANSTALTUNG
SUMMARY:Integration und Bewertung erzeuger- und verbraucherseitiger Energiespeicher
DESCRIPTION:"Integration und Bewertung erzeuger- und verbraucherseitiger Energiespeicher"
CONTACT:Marianne Winkelmayer - m.winkelmayer@tum.de
LOCATION:N3815
CLASS:PUBLIC
URL;VALUE=URL:https://portal.mytum.de/termine/Event.2012-08-08.5251682303
CREATED:20120808T153528
DTEND;TZID=Europe/Berlin:20121112T183000
END:VEVENT
END:VCALENDAR
