BEGIN:VCALENDAR
PRODID:-//Dr. Thomas Wagner\, TUM WWW & Online Services//myTUM Advanced Calendaring 0.1//DE
VERSION:2.0
METHOD:GET
BEGIN:VTIMEZONE
TZID:Europe/Berlin
BEGIN:STANDARD
DTSTART:20071028T010000
TZOFFSETTO:+0100
TZOFFSETFROM:+0000
TZNAME:CET
END:STANDARD
BEGIN:DAYLIGHT
TZOFFSETTO:+0200
TZOFFSETFROM:+0100
TZNAME:CEST
DTSTART:20080330T020000
END:DAYLIGHT
END:VTIMEZONE
BEGIN:VEVENT
SEQUENCE:1
TRANSP:OPAQUE
UID:termine_Event.2012-07-03.1668496510_portal.mytum.de
DTSTART;TZID=Europe/Berlin:20120716T082000
ORGANIZER;CN="Hannelore Rung":mailto:hanne.rung@tum.de
DTSTAMP:20260422T021115
LAST-MODIFIED:20120703T132052
CATEGORIES:SOCIAL EVENT
SUMMARY:Open Week
DESCRIPTION:1. Open Week an der Fakultät für Architektur „In der Woche vom 16. bis 20. Juli lädt die Fakultät für Architektur zum ersten Mal alle Interessierten herzlich in die Räumlichkeiten auf dem Stammgelände der TUM ein. Bei Diplompräsentationen, zahlreichen Entwurfskritiken, Ausstellungen, Vorlesungen und Führungen erhalten Besucher intensive Einblicke in das Architekturstudium und die Arbeit der Lehrstühle und zentralen Einrichtungen.
CONTACT:Jan Evertz
LOCATION:TU Stammgelände, Arcisstr. 21, 80333 München
CLASS:PUBLIC
URL;VALUE=URL:https://portal.mytum.de/termine/Event.2012-07-03.1668496510
ATTACH;VALUE=URI:http://www.ar.tum.de/aktuell/newsdetails/?tx_ttnews[tt_news]=1093&tx_ttnews[backPid]=249&cHash=d7c5dd94f7
CREATED:20120703T132052
DTEND;TZID=Europe/Berlin:20120720T201000
END:VEVENT
END:VCALENDAR
